BEGIN:VCALENDAR
VERSION:2.0
PRODID:-//Le KFT - ECPv6.10.3//NONSGML v1.0//EN
CALSCALE:GREGORIAN
METHOD:PUBLISH
X-ORIGINAL-URL:https://www.le-kft.com
X-WR-CALDESC:Évènements pour Le KFT
REFRESH-INTERVAL;VALUE=DURATION:PT1H
X-Robots-Tag:noindex
X-PUBLISHED-TTL:PT1H
BEGIN:VTIMEZONE
TZID:Europe/Paris
BEGIN:DAYLIGHT
TZOFFSETFROM:+0100
TZOFFSETTO:+0200
TZNAME:CEST
DTSTART:20240331T010000
END:DAYLIGHT
BEGIN:STANDARD
TZOFFSETFROM:+0200
TZOFFSETTO:+0100
TZNAME:CET
DTSTART:20241027T010000
END:STANDARD
END:VTIMEZONE
BEGIN:VEVENT
DTSTART;TZID=Europe/Paris:20240704T213000
DTEND;TZID=Europe/Paris:20240704T213000
DTSTAMP:20260422T205147
CREATED:20231116T101334Z
LAST-MODIFIED:20231116T101334Z
UID:10002041-1720128600-1720128600@www.le-kft.com
SUMMARY:NOS HOMMES-"Spectacle amateur"
DESCRIPTION:Pourquoi huit femmes sont-elles réunies ? Dans quel but ? Dans quel lieu ? Elles évoqueront avec des particularités surprenantes et loufoques leur vie de couple. Chacune jouera avec l’homme aimé la scène emblématique de leur ultime querelle. Et\, vous saurez pourquoi et comment elles ont assassiné leur mari. Mais\, les apparences réservent de drôles de surprises puisque nous sommes tous\, acteurs et spectateurs\, dans un théâtre.\nCette pièce avec humour\, sans cynisme ni dogmatisme n’a qu’un but : provoquer le rire. \nArtistes : Par la troupe amateure du KFT\nAuteur : Agnès Bert \n 
URL:https://www.le-kft.com/spectacle/nos-hommes-spectacle-amateur-4/
LOCATION:Café Théâtre de Saint-Galmier\, 15\, Boulevard du Dr Gabriel Cousin\, Saint-Galmier\, IL\, 42330
CATEGORIES:Spectacles
ATTACH;FMTTYPE=image/jpeg:https://www.le-kft.com/wp-content//uploads/2023/11/visuel-nos-hommes.jpg
END:VEVENT
BEGIN:VEVENT
DTSTART;TZID=Europe/Paris:20240705T213000
DTEND;TZID=Europe/Paris:20240705T213000
DTSTAMP:20260422T205147
CREATED:20220329T063318Z
LAST-MODIFIED:20220329T063318Z
UID:10006524-1720215000-1720215000@www.le-kft.com
SUMMARY:HEUREUSEMENT QUE TU L'AIMES
DESCRIPTION:Anciennement « Bons à rien \,Prêts à tout ! » \nManu est un bon à rien\, prêt à tout pour épouser Géraldine\, la riche héritière qui l’héberge gracieusement dans son appartement en travaux. Pour parvenir à ses fins\, il demande l’aide de son ami Bouboule. Mais Bouboule\, bon à rien lui aussi\, est-il vraiment le conseiller idéal ?\nQuand les auteurs et comédiens de « Vacancesdemerde.com » s’attaquent à l’amour et au couple\, ça donne « Bons à rien\, prêts à tout » une comédie décapante à ne surtout pas rater. Vous avez également pu voir Philippe Urbain et Emmanuel Carlier dans la comédie «C’était pas prévu comme ça !» aux côtés de Grégory Cometti. \nAuteurs : Emmanuel CARLIER et Philippe URBAIN\nArtistes : Elodie BOULEAU\, Philippe URBAIN\, Emmanuel CARLIER
URL:https://www.le-kft.com/spectacle/heureusement-que-tu-laimes/2024-07-05/
LOCATION:Café Théâtre de Saint-Galmier\, 15\, Boulevard du Dr Gabriel Cousin\, Saint-Galmier\, IL\, 42330
CATEGORIES:Spectacles
ATTACH;FMTTYPE=image/jpeg:https://www.le-kft.com/wp-content//uploads/2022/03/AfficheWeb-HQLM.jpg
END:VEVENT
BEGIN:VEVENT
DTSTART;TZID=Europe/Paris:20240705T213000
DTEND;TZID=Europe/Paris:20240705T213000
DTSTAMP:20260422T205147
CREATED:20220329T063318Z
LAST-MODIFIED:20220329T063318Z
UID:10006527-1720215000-1720215000@www.le-kft.com
SUMMARY:HEUREUSEMENT QUE TU L'AIMES
DESCRIPTION:Anciennement « Bons à rien \,Prêts à tout ! » \nManu est un bon à rien\, prêt à tout pour épouser Géraldine\, la riche héritière qui l’héberge gracieusement dans son appartement en travaux. Pour parvenir à ses fins\, il demande l’aide de son ami Bouboule. Mais Bouboule\, bon à rien lui aussi\, est-il vraiment le conseiller idéal ?\nQuand les auteurs et comédiens de « Vacancesdemerde.com » s’attaquent à l’amour et au couple\, ça donne « Bons à rien\, prêts à tout » une comédie décapante à ne surtout pas rater. Vous avez également pu voir Philippe Urbain et Emmanuel Carlier dans la comédie «C’était pas prévu comme ça !» aux côtés de Grégory Cometti. \nAuteurs : Emmanuel CARLIER et Philippe URBAIN\nArtistes : Elodie BOULEAU\, Philippe URBAIN\, Emmanuel CARLIER
URL:https://www.le-kft.com/spectacle/heureusement-que-tu-laimes/2024-07-05/
LOCATION:Café Théâtre de Saint-Galmier\, 15\, Boulevard du Dr Gabriel Cousin\, Saint-Galmier\, IL\, 42330
CATEGORIES:Spectacles
ATTACH;FMTTYPE=image/jpeg:https://www.le-kft.com/wp-content//uploads/2022/03/AfficheWeb-HQLM.jpg
END:VEVENT
BEGIN:VEVENT
DTSTART;TZID=Europe/Paris:20240705T213000
DTEND;TZID=Europe/Paris:20240705T213000
DTSTAMP:20260422T205147
CREATED:20220329T063318Z
LAST-MODIFIED:20220329T063318Z
UID:10006530-1720215000-1720215000@www.le-kft.com
SUMMARY:HEUREUSEMENT QUE TU L'AIMES
DESCRIPTION:Anciennement « Bons à rien \,Prêts à tout ! » \nManu est un bon à rien\, prêt à tout pour épouser Géraldine\, la riche héritière qui l’héberge gracieusement dans son appartement en travaux. Pour parvenir à ses fins\, il demande l’aide de son ami Bouboule. Mais Bouboule\, bon à rien lui aussi\, est-il vraiment le conseiller idéal ?\nQuand les auteurs et comédiens de « Vacancesdemerde.com » s’attaquent à l’amour et au couple\, ça donne « Bons à rien\, prêts à tout » une comédie décapante à ne surtout pas rater. Vous avez également pu voir Philippe Urbain et Emmanuel Carlier dans la comédie «C’était pas prévu comme ça !» aux côtés de Grégory Cometti. \nAuteurs : Emmanuel CARLIER et Philippe URBAIN\nArtistes : Elodie BOULEAU\, Philippe URBAIN\, Emmanuel CARLIER
URL:https://www.le-kft.com/spectacle/heureusement-que-tu-laimes/2024-07-05/
LOCATION:Café Théâtre de Saint-Galmier\, 15\, Boulevard du Dr Gabriel Cousin\, Saint-Galmier\, IL\, 42330
CATEGORIES:Spectacles
ATTACH;FMTTYPE=image/jpeg:https://www.le-kft.com/wp-content//uploads/2022/03/AfficheWeb-HQLM.jpg
END:VEVENT
BEGIN:VEVENT
DTSTART;TZID=Europe/Paris:20240706T213000
DTEND;TZID=Europe/Paris:20240706T213000
DTSTAMP:20260422T205147
CREATED:20220329T063318Z
LAST-MODIFIED:20220329T063318Z
UID:10006528-1720301400-1720301400@www.le-kft.com
SUMMARY:HEUREUSEMENT QUE TU L'AIMES
DESCRIPTION:Anciennement « Bons à rien \,Prêts à tout ! » \nManu est un bon à rien\, prêt à tout pour épouser Géraldine\, la riche héritière qui l’héberge gracieusement dans son appartement en travaux. Pour parvenir à ses fins\, il demande l’aide de son ami Bouboule. Mais Bouboule\, bon à rien lui aussi\, est-il vraiment le conseiller idéal ?\nQuand les auteurs et comédiens de « Vacancesdemerde.com » s’attaquent à l’amour et au couple\, ça donne « Bons à rien\, prêts à tout » une comédie décapante à ne surtout pas rater. Vous avez également pu voir Philippe Urbain et Emmanuel Carlier dans la comédie «C’était pas prévu comme ça !» aux côtés de Grégory Cometti. \nAuteurs : Emmanuel CARLIER et Philippe URBAIN\nArtistes : Elodie BOULEAU\, Philippe URBAIN\, Emmanuel CARLIER
URL:https://www.le-kft.com/spectacle/heureusement-que-tu-laimes/2024-07-06/
LOCATION:Café Théâtre de Saint-Galmier\, 15\, Boulevard du Dr Gabriel Cousin\, Saint-Galmier\, IL\, 42330
CATEGORIES:Spectacles
ATTACH;FMTTYPE=image/jpeg:https://www.le-kft.com/wp-content//uploads/2022/03/AfficheWeb-HQLM.jpg
END:VEVENT
BEGIN:VEVENT
DTSTART;TZID=Europe/Paris:20240706T213000
DTEND;TZID=Europe/Paris:20240706T213000
DTSTAMP:20260422T205147
CREATED:20220329T063318Z
LAST-MODIFIED:20220329T063318Z
UID:10006531-1720301400-1720301400@www.le-kft.com
SUMMARY:HEUREUSEMENT QUE TU L'AIMES
DESCRIPTION:Anciennement « Bons à rien \,Prêts à tout ! » \nManu est un bon à rien\, prêt à tout pour épouser Géraldine\, la riche héritière qui l’héberge gracieusement dans son appartement en travaux. Pour parvenir à ses fins\, il demande l’aide de son ami Bouboule. Mais Bouboule\, bon à rien lui aussi\, est-il vraiment le conseiller idéal ?\nQuand les auteurs et comédiens de « Vacancesdemerde.com » s’attaquent à l’amour et au couple\, ça donne « Bons à rien\, prêts à tout » une comédie décapante à ne surtout pas rater. Vous avez également pu voir Philippe Urbain et Emmanuel Carlier dans la comédie «C’était pas prévu comme ça !» aux côtés de Grégory Cometti. \nAuteurs : Emmanuel CARLIER et Philippe URBAIN\nArtistes : Elodie BOULEAU\, Philippe URBAIN\, Emmanuel CARLIER
URL:https://www.le-kft.com/spectacle/heureusement-que-tu-laimes/2024-07-06/
LOCATION:Café Théâtre de Saint-Galmier\, 15\, Boulevard du Dr Gabriel Cousin\, Saint-Galmier\, IL\, 42330
CATEGORIES:Spectacles
ATTACH;FMTTYPE=image/jpeg:https://www.le-kft.com/wp-content//uploads/2022/03/AfficheWeb-HQLM.jpg
END:VEVENT
BEGIN:VEVENT
DTSTART;TZID=Europe/Paris:20240706T213000
DTEND;TZID=Europe/Paris:20240706T213000
DTSTAMP:20260422T205147
CREATED:20220329T063318Z
LAST-MODIFIED:20220329T063318Z
UID:10006525-1720301400-1720301400@www.le-kft.com
SUMMARY:HEUREUSEMENT QUE TU L'AIMES
DESCRIPTION:Anciennement « Bons à rien \,Prêts à tout ! » \nManu est un bon à rien\, prêt à tout pour épouser Géraldine\, la riche héritière qui l’héberge gracieusement dans son appartement en travaux. Pour parvenir à ses fins\, il demande l’aide de son ami Bouboule. Mais Bouboule\, bon à rien lui aussi\, est-il vraiment le conseiller idéal ?\nQuand les auteurs et comédiens de « Vacancesdemerde.com » s’attaquent à l’amour et au couple\, ça donne « Bons à rien\, prêts à tout » une comédie décapante à ne surtout pas rater. Vous avez également pu voir Philippe Urbain et Emmanuel Carlier dans la comédie «C’était pas prévu comme ça !» aux côtés de Grégory Cometti. \nAuteurs : Emmanuel CARLIER et Philippe URBAIN\nArtistes : Elodie BOULEAU\, Philippe URBAIN\, Emmanuel CARLIER
URL:https://www.le-kft.com/spectacle/heureusement-que-tu-laimes/2024-07-06/
LOCATION:Café Théâtre de Saint-Galmier\, 15\, Boulevard du Dr Gabriel Cousin\, Saint-Galmier\, IL\, 42330
CATEGORIES:Spectacles
ATTACH;FMTTYPE=image/jpeg:https://www.le-kft.com/wp-content//uploads/2022/03/AfficheWeb-HQLM.jpg
END:VEVENT
BEGIN:VEVENT
DTSTART;TZID=Europe/Paris:20240707T180000
DTEND;TZID=Europe/Paris:20240707T180000
DTSTAMP:20260422T205147
CREATED:20220329T063318Z
LAST-MODIFIED:20220329T063318Z
UID:10006526-1720375200-1720375200@www.le-kft.com
SUMMARY:HEUREUSEMENT QUE TU L'AIMES
DESCRIPTION:Anciennement « Bons à rien \,Prêts à tout ! » \nManu est un bon à rien\, prêt à tout pour épouser Géraldine\, la riche héritière qui l’héberge gracieusement dans son appartement en travaux. Pour parvenir à ses fins\, il demande l’aide de son ami Bouboule. Mais Bouboule\, bon à rien lui aussi\, est-il vraiment le conseiller idéal ?\nQuand les auteurs et comédiens de « Vacancesdemerde.com » s’attaquent à l’amour et au couple\, ça donne « Bons à rien\, prêts à tout » une comédie décapante à ne surtout pas rater. Vous avez également pu voir Philippe Urbain et Emmanuel Carlier dans la comédie «C’était pas prévu comme ça !» aux côtés de Grégory Cometti. \nAuteurs : Emmanuel CARLIER et Philippe URBAIN\nArtistes : Elodie BOULEAU\, Philippe URBAIN\, Emmanuel CARLIER
URL:https://www.le-kft.com/spectacle/heureusement-que-tu-laimes/2024-07-07/
LOCATION:Café Théâtre de Saint-Galmier\, 15\, Boulevard du Dr Gabriel Cousin\, Saint-Galmier\, IL\, 42330
CATEGORIES:Spectacles
ATTACH;FMTTYPE=image/jpeg:https://www.le-kft.com/wp-content//uploads/2022/03/AfficheWeb-HQLM.jpg
END:VEVENT
BEGIN:VEVENT
DTSTART;TZID=Europe/Paris:20240707T180000
DTEND;TZID=Europe/Paris:20240707T180000
DTSTAMP:20260422T205147
CREATED:20220329T063318Z
LAST-MODIFIED:20220329T063318Z
UID:10006529-1720375200-1720375200@www.le-kft.com
SUMMARY:HEUREUSEMENT QUE TU L'AIMES
DESCRIPTION:Anciennement « Bons à rien \,Prêts à tout ! » \nManu est un bon à rien\, prêt à tout pour épouser Géraldine\, la riche héritière qui l’héberge gracieusement dans son appartement en travaux. Pour parvenir à ses fins\, il demande l’aide de son ami Bouboule. Mais Bouboule\, bon à rien lui aussi\, est-il vraiment le conseiller idéal ?\nQuand les auteurs et comédiens de « Vacancesdemerde.com » s’attaquent à l’amour et au couple\, ça donne « Bons à rien\, prêts à tout » une comédie décapante à ne surtout pas rater. Vous avez également pu voir Philippe Urbain et Emmanuel Carlier dans la comédie «C’était pas prévu comme ça !» aux côtés de Grégory Cometti. \nAuteurs : Emmanuel CARLIER et Philippe URBAIN\nArtistes : Elodie BOULEAU\, Philippe URBAIN\, Emmanuel CARLIER
URL:https://www.le-kft.com/spectacle/heureusement-que-tu-laimes/2024-07-07/
LOCATION:Café Théâtre de Saint-Galmier\, 15\, Boulevard du Dr Gabriel Cousin\, Saint-Galmier\, IL\, 42330
CATEGORIES:Spectacles
ATTACH;FMTTYPE=image/jpeg:https://www.le-kft.com/wp-content//uploads/2022/03/AfficheWeb-HQLM.jpg
END:VEVENT
BEGIN:VEVENT
DTSTART;TZID=Europe/Paris:20240707T180000
DTEND;TZID=Europe/Paris:20240707T180000
DTSTAMP:20260422T205147
CREATED:20220329T063318Z
LAST-MODIFIED:20220329T063318Z
UID:10006532-1720375200-1720375200@www.le-kft.com
SUMMARY:HEUREUSEMENT QUE TU L'AIMES
DESCRIPTION:Anciennement « Bons à rien \,Prêts à tout ! » \nManu est un bon à rien\, prêt à tout pour épouser Géraldine\, la riche héritière qui l’héberge gracieusement dans son appartement en travaux. Pour parvenir à ses fins\, il demande l’aide de son ami Bouboule. Mais Bouboule\, bon à rien lui aussi\, est-il vraiment le conseiller idéal ?\nQuand les auteurs et comédiens de « Vacancesdemerde.com » s’attaquent à l’amour et au couple\, ça donne « Bons à rien\, prêts à tout » une comédie décapante à ne surtout pas rater. Vous avez également pu voir Philippe Urbain et Emmanuel Carlier dans la comédie «C’était pas prévu comme ça !» aux côtés de Grégory Cometti. \nAuteurs : Emmanuel CARLIER et Philippe URBAIN\nArtistes : Elodie BOULEAU\, Philippe URBAIN\, Emmanuel CARLIER
URL:https://www.le-kft.com/spectacle/heureusement-que-tu-laimes/2024-07-07/
LOCATION:Café Théâtre de Saint-Galmier\, 15\, Boulevard du Dr Gabriel Cousin\, Saint-Galmier\, IL\, 42330
CATEGORIES:Spectacles
ATTACH;FMTTYPE=image/jpeg:https://www.le-kft.com/wp-content//uploads/2022/03/AfficheWeb-HQLM.jpg
END:VEVENT
END:VCALENDAR