BEGIN:VCALENDAR
VERSION:2.0
PRODID:-//Le KFT - ECPv6.10.3//NONSGML v1.0//EN
CALSCALE:GREGORIAN
METHOD:PUBLISH
X-WR-CALNAME:Le KFT
X-ORIGINAL-URL:https://www.le-kft.com
X-WR-CALDESC:Évènements pour Le KFT
REFRESH-INTERVAL;VALUE=DURATION:PT1H
X-Robots-Tag:noindex
X-PUBLISHED-TTL:PT1H
BEGIN:VTIMEZONE
TZID:Europe/Paris
BEGIN:DAYLIGHT
TZOFFSETFROM:+0100
TZOFFSETTO:+0200
TZNAME:CEST
DTSTART:20260329T010000
END:DAYLIGHT
BEGIN:STANDARD
TZOFFSETFROM:+0200
TZOFFSETTO:+0100
TZNAME:CET
DTSTART:20261025T010000
END:STANDARD
END:VTIMEZONE
BEGIN:VEVENT
DTSTART;TZID=Europe/Paris:20261017T203000
DTEND;TZID=Europe/Paris:20261017T203000
DTSTAMP:20260420T212620
CREATED:20251230T113504Z
LAST-MODIFIED:20251230T113504Z
UID:10007869-1792269000-1792269000@www.le-kft.com
SUMMARY:ERICK BAERT\, Nouveau Spectacle - Au forum à Feurs
DESCRIPTION:Après un premier spectacle joué à guichet fermé\, Retrouvez ce Performer dans son nouveau spectacle : « Voix Électrisantes : Un Voyage Musical Inoubliable » \nPréparez-vous à vivre une expérience unique lors de ce deuxième opus.\nCette fois-ci\, Erick BAERT vous emmène dans un univers où les voix résonnent avec une puissance inégalée\, où chaque note est une invitation à l’évasion.\nImaginez-vous au cœur d’une ambiance digne des plus grands stades\, où l’énergie du public se mêle à la magie des performances. Ce show vous promet une soirée riche en émotions\, en rires et en surprises. Des classiques intemporels de légendes tels que Freddie Mercury ou Elvis Presley\, aux rythmes entraînants des Black Eyed Peas ou Coldplay et des voix envoûtantes comme celles de Céline Dion\, sans oublier la nouvelle génération d’artistes qui enflamme les charts.\nAvec une mise en scène et des arrangements audacieux\, attendez-vous à vivre ou revivre des moments inoubliables\, où l’humour se mêle à l’émotion\, et où chaque chanson devient une célébration de la diversité musicale. Des duos inattendus\, des medleys explosifs et des surprises qui vous laisseront sans voix sont au programme !\nRejoignez Erick BAERT pour ce voyage musical palpitant\, où les voix s’élèvent\, les cœurs battent à l’unisson\, et où la magie opère à chaque instant. Ensemble\, faisons vibrer nos émotions et célébrons la puissance de la musique.\nRéservez vos places dès maintenant et préparez-vous à être émerveillés ! \nArtiste : Erick Baert
URL:https://www.le-kft.com/spectacle/erick-baert-nouveau-spectacle-au-forum-a-feurs/
LOCATION:Théâtre du Forum de Feurs\, 24 Rue Camille Pariat\, Feurs\, 42210
CATEGORIES:Spectacles,Têtes d'affiche
ATTACH;FMTTYPE=image/jpeg:https://www.le-kft.com/wp-content//uploads/2025/01/ERICK-scaled.jpeg
END:VEVENT
BEGIN:VEVENT
DTSTART;TZID=Europe/Paris:20261212T203000
DTEND;TZID=Europe/Paris:20261212T203000
DTSTAMP:20260420T212620
CREATED:20251113T173416Z
LAST-MODIFIED:20251113T173821Z
UID:10007854-1797107400-1797107400@www.le-kft.com
SUMMARY:JULIEN BING\, Au Théâtre du Forum à Feurs
DESCRIPTION:Un spectacle complètement désengagé… ou presque ! \nEtes-vous prêts à entendre toute la vérité\, rien que la vérité\, ou presque ? Cette vérité qui change aussi vite que la société évolue.\nD’ailleurs\, notre vérité d’hier est-elle la même que celle d’aujourd’hui ?\nDu stand-up aux personnages\, Bing s’interroge avec empathie\, bienveillance (ou presque) sur des vérités qui dérangent : les enfants dansent-ils vraiment bien à la fête de l’école ? Peut-on sauver son couple après une sixième rupture ? Le féminisme est-il perçu comme un coup d’état pour certains hommes ? Sommes-nous… Non\, nous ne pouvons pas tout dire… \nGardons un peu de suspense ! Avec un humour intelligemment maladroit\, Julien Bing a un objectif : rire avec tout le monde !\nDans un monde où la nuance n’existe plus et où tout porte à polémique\, conscient du danger\, il s’amuse de l’image « instagrammable » dans laquelle nous sommes tous piégés… Ou presque ! \nAttention\, il prévient son public : s’il va trop loin avec lui-même\, il s’insultera sur les réseaux sociaux\, mettra fin à sa carrière\, et s’il va vraiment trop trop loin\, il s’attaquera en justice. Alors\, si vous aussi\, vous n’êtes pas parfaits aux yeux de cette époque qui voudrait que vous le soyez\, venez le voir\, vous lui ressemblez sûrement… Ou presque !
URL:https://www.le-kft.com/spectacle/julien-bing-au-forum-a-feurs/
LOCATION:Théâtre du Forum de Feurs\, 24 Rue Camille Pariat\, Feurs\, 42210
CATEGORIES:Spectacles
ATTACH;FMTTYPE=image/webp:https://www.le-kft.com/wp-content//uploads/2025/01/AFFICHE-JULIEN-BING-PDF-LEGER_page-0001-2-5bcf4a78-1-scaled.webp
END:VEVENT
END:VCALENDAR